BEGIN:VCALENDAR
VERSION:2.0
PRODID:-//eventon.com NONSGML v1.0//EN
CALSCALE:GREGORIAN
METHOD:PUBLISH
BEGIN:VEVENT
UID:69eb2f9024992
DTSTAMP:20260424T085336Z
DTSTART:20240810T130000Z
DTEND:20240810T200000Z
LOCATION:
SUMMARY:Corn Roast
DESCRIPTION:Corn Roast\nhttps://solutionsrecovery.org/events/corn-roast/
URL:https://solutionsrecovery.org/events/corn-roast/
END:VEVENT
END:VCALENDAR