BEGIN:VCALENDAR
VERSION:2.0
PRODID:-//eventon.com NONSGML v1.0//EN
CALSCALE:GREGORIAN
METHOD:PUBLISH
BEGIN:VEVENT
UID:69e89cc781b0f
DTSTAMP:20260422T100247Z
DTSTART:20250209T160000Z
DTEND:20250209T200000Z
LOCATION:
SUMMARY:Super Bowl Party
DESCRIPTION:Super Bowl Party\nhttps://solutionsrecovery.org/events/super-bo
 wl-party/
URL:https://solutionsrecovery.org/events/super-bowl-party/
END:VEVENT
END:VCALENDAR